BEGIN:VCALENDAR
VERSION:2.0
PRODID:-//Interfaith Community Housing of Delaware - ECPv6.15.20//NONSGML v1.0//EN
CALSCALE:GREGORIAN
METHOD:PUBLISH
X-ORIGINAL-URL:https://ichde.org
X-WR-CALDESC:Events for Interfaith Community Housing of Delaware
REFRESH-INTERVAL;VALUE=DURATION:PT1H
X-Robots-Tag:noindex
X-PUBLISHED-TTL:PT1H
BEGIN:VTIMEZONE
TZID:America/New_York
BEGIN:DAYLIGHT
TZOFFSETFROM:-0500
TZOFFSETTO:-0400
TZNAME:EDT
DTSTART:20250309T070000
END:DAYLIGHT
BEGIN:STANDARD
TZOFFSETFROM:-0400
TZOFFSETTO:-0500
TZNAME:EST
DTSTART:20251102T060000
END:STANDARD
BEGIN:DAYLIGHT
TZOFFSETFROM:-0500
TZOFFSETTO:-0400
TZNAME:EDT
DTSTART:20260308T070000
END:DAYLIGHT
BEGIN:STANDARD
TZOFFSETFROM:-0400
TZOFFSETTO:-0500
TZNAME:EST
DTSTART:20261101T060000
END:STANDARD
BEGIN:DAYLIGHT
TZOFFSETFROM:-0500
TZOFFSETTO:-0400
TZNAME:EDT
DTSTART:20270314T070000
END:DAYLIGHT
BEGIN:STANDARD
TZOFFSETFROM:-0400
TZOFFSETTO:-0500
TZNAME:EST
DTSTART:20271107T060000
END:STANDARD
END:VTIMEZONE
BEGIN:VEVENT
DTSTART;TZID=America/New_York:20260530T100000
DTEND;TZID=America/New_York:20260530T130000
DTSTAMP:20260423T104735
CREATED:20260421T161723Z
LAST-MODIFIED:20260423T140111Z
UID:10000350-1780135200-1780146000@ichde.org
SUMMARY:May 30th FREE First-Time Homebuyer Workshop at MSK Community Center
DESCRIPTION:FREE First-Time Homebuyer Workshop sponsored by Prosperity Home Mortgage and presented by Councilwoman Yolanda McCoy in partnership with The City of Wilmington and The Cathedral of Fresh Fire. Join us to get valuable information on the home-buying process\, down payment assistance programs\, and qualifying for a mortgage\, Make connections with real estate professionals who will be on-hand to answer any of your questions. \nWhen: May 30th from 10am-1pm \nWhere: MSK Community Center\, 1009 Sycamore St\, Wilmington\, DE 19805 \nRegistration Required: hocintake@ichde.org or (302) 652-3991 \nRegister online: https://forms.gle/sf4GnG5kivhJQyLB8 \n  \n 
URL:https://ichde.org/event/may-30th-free-first-time-homebuyer-workshop-at-msk-community-center/
LOCATION:MSK Community Center\, 1009 Sycamore St.\, Wilmington\, DE\, 19805\, United States
CATEGORIES:Homeownership
ATTACH;FMTTYPE=image/webp:https://ichde.org/wp-content/uploads/2026/04/MSK-FTHB-Flyer-final-e1776788115114.webp
ORGANIZER;CN="Interfaith Community Housing of Delaware%2C Inc.":MAILTO:hocintake@ichde.org
END:VEVENT
END:VCALENDAR